BEGIN:VCALENDAR
VERSION:2.0
PRODID:-//La Péniche de Triel - ECPv6.15.20//NONSGML v1.0//EN
CALSCALE:GREGORIAN
METHOD:PUBLISH
X-WR-CALNAME:La Péniche de Triel
X-ORIGINAL-URL:https://la-peniche-de-triel.org
X-WR-CALDESC:Évènements pour La Péniche de Triel
REFRESH-INTERVAL;VALUE=DURATION:PT1H
X-Robots-Tag:noindex
X-PUBLISHED-TTL:PT1H
BEGIN:VTIMEZONE
TZID:Europe/Paris
BEGIN:DAYLIGHT
TZOFFSETFROM:+0100
TZOFFSETTO:+0200
TZNAME:CEST
DTSTART:20230326T010000
END:DAYLIGHT
BEGIN:STANDARD
TZOFFSETFROM:+0200
TZOFFSETTO:+0100
TZNAME:CET
DTSTART:20231029T010000
END:STANDARD
BEGIN:DAYLIGHT
TZOFFSETFROM:+0100
TZOFFSETTO:+0200
TZNAME:CEST
DTSTART:20240331T010000
END:DAYLIGHT
BEGIN:STANDARD
TZOFFSETFROM:+0200
TZOFFSETTO:+0100
TZNAME:CET
DTSTART:20241027T010000
END:STANDARD
BEGIN:DAYLIGHT
TZOFFSETFROM:+0100
TZOFFSETTO:+0200
TZNAME:CEST
DTSTART:20250330T010000
END:DAYLIGHT
BEGIN:STANDARD
TZOFFSETFROM:+0200
TZOFFSETTO:+0100
TZNAME:CET
DTSTART:20251026T010000
END:STANDARD
END:VTIMEZONE
BEGIN:VEVENT
DTSTART;TZID=Europe/Paris:20241019T153000
DTEND;TZID=Europe/Paris:20241019T200000
DTSTAMP:20260422T074842
CREATED:20241010T103505Z
LAST-MODIFIED:20241010T103738Z
UID:3726-1729351800-1729368000@la-peniche-de-triel.org
SUMMARY:«  rando-philo » samedi 19 Octobre … départ de La Péniche
DESCRIPTION:nfor­ma­tion : la «  ran­do-phi­lo » du same­di 19 Octobre … Uni­ver­si­té popu­laire de Pois­sy et Asso­cia­tion «  La Péniche de Triel sur Seine.\n               L’activité est donc orga­ni­sée par ces deux associations.\n                    RDV à 15.30 : Péniche de Triel (près de la place du mar­ché\, quai situé au niveau du Centre Ville).\n                   Tout d’abord\, accueil par Rodri­go Acos­ta \, pré­sident de l’association et je pré­sen­te­rai mon pro­gramme de «  phi­lo­so­phie pour tous » tant à Pois­sy que sur la Péniche ; puis nous par­tons pour la ran­don­née ( 1 H 30 de marche \, envi­ron  ) ; cette année \, la balade se fera en res­tant sur Triel rive droite \, donc : il n’y aura pas que du plat ! ( sans aller jusqu’au som­met de l’Hautil \, je ras­sure \, mais quand même) !\n                  La ran­don­née sera ponc­tuée de 5 pauses\, dans des lieux choi­sis\, agréables\, «  nature ». Je lirai et com­men­te­rai\, avec votre aide\, quelques textes qui «résonnent » quant à l’intérêt de « phi­lo­so­pher »\, ou en consi­dé­rant le monde actuel\, ou enfin en évo­quant  un thème qui sera abor­dé lors de la sai­son 2024/2025.\n                 Les textes seront en ligne une petite semaine aupa­ra­vant (mer­ci de se munir du docu­ment\, si vous dis­po­sez d’une imprimante).\n                   Retour à la Péniche (18. 30\, au plus tard) .  Ce sera le moment d’ échanges \, pour conclure ‚lors d’un «  apé­ri­tif par­ta­gé »\, pour la par­tie «  liquide » \, je pro­pose d’utiliser le bar de la péniche avec ses tarifs des plus modé­rés et pour le «  solide » \, cha­cun pour­ra pré­voir un petit quelque chose … Fin de l’activité à 19.00 .\n                 Atten­tion ! Le nombre de par­ti­ci­pants est limi­té\, l’inscription se fera via le site de l’unipop\, comme pour les cours\, ou auprès d’un res­pon­sable de la Péniche.\n                   Jean Fran­çois Ganivet. 
URL:https://la-peniche-de-triel.org/evenement/rando-philo-samedi-19-octobre-depart-de-la-peniche/
LOCATION:La Péniche de Triel\, 69 quai Auguste Roy\, Triel sur Seine\, 78510\, France
ATTACH;FMTTYPE=image/jpeg:https://la-peniche-de-triel.org/wp-content/uploads/2023/09/20201122_155342-scaled.jpg
END:VEVENT
END:VCALENDAR