BEGIN:VCALENDAR
VERSION:2.0
PRODID:-//La Péniche de Triel - ECPv6.15.20//NONSGML v1.0//EN
CALSCALE:GREGORIAN
METHOD:PUBLISH
X-ORIGINAL-URL:https://la-peniche-de-triel.org
X-WR-CALDESC:Évènements pour La Péniche de Triel
REFRESH-INTERVAL;VALUE=DURATION:PT1H
X-Robots-Tag:noindex
X-PUBLISHED-TTL:PT1H
BEGIN:VTIMEZONE
TZID:Europe/Paris
BEGIN:DAYLIGHT
TZOFFSETFROM:+0100
TZOFFSETTO:+0200
TZNAME:CEST
DTSTART:20210328T010000
END:DAYLIGHT
BEGIN:STANDARD
TZOFFSETFROM:+0200
TZOFFSETTO:+0100
TZNAME:CET
DTSTART:20211031T010000
END:STANDARD
BEGIN:DAYLIGHT
TZOFFSETFROM:+0100
TZOFFSETTO:+0200
TZNAME:CEST
DTSTART:20220327T010000
END:DAYLIGHT
BEGIN:STANDARD
TZOFFSETFROM:+0200
TZOFFSETTO:+0100
TZNAME:CET
DTSTART:20221030T010000
END:STANDARD
BEGIN:DAYLIGHT
TZOFFSETFROM:+0100
TZOFFSETTO:+0200
TZNAME:CEST
DTSTART:20230326T010000
END:DAYLIGHT
BEGIN:STANDARD
TZOFFSETFROM:+0200
TZOFFSETTO:+0100
TZNAME:CET
DTSTART:20231029T010000
END:STANDARD
END:VTIMEZONE
BEGIN:VEVENT
DTSTART;TZID=Europe/Paris:20221105T200000
DTEND;TZID=Europe/Paris:20221105T233000
DTSTAMP:20260421T123143
CREATED:20221017T081344Z
LAST-MODIFIED:20221025T182233Z
UID:2365-1667678400-1667691000@la-peniche-de-triel.org
SUMMARY:Concert de Taraboost à La Péniche samedi 5 novembre Rock/Blues/Psyché
DESCRIPTION:Les musi­ciens rayonnent sur scène et vous font voya­ger au rythme de leur musique. Mêlant blues\, rock et psy­ché\, Tara­boost vous pro­pose un registre varié entre com­po­si­tions ori­gi­nales et stan­dards revisités.
URL:https://la-peniche-de-triel.org/evenement/concert-de-taraboost-a-la-peniche-samedi-5-novembre-rock-blues-psyche/
ATTACH;FMTTYPE=application/pdf:https://la-peniche-de-triel.org/wp-content/uploads/2022/10/taraboost.pdf
END:VEVENT
BEGIN:VEVENT
DTSTART;TZID=Europe/Paris:20221110T200000
DTEND;TZID=Europe/Paris:20221110T220000
DTSTAMP:20260421T123143
CREATED:20221106T143757Z
LAST-MODIFIED:20221106T145305Z
UID:2500-1668110400-1668117600@la-peniche-de-triel.org
SUMMARY:Conférence dédicace autour du livre de Dalila Raposo "Putain de Parkinson"
DESCRIPTION:Notre de l’é­di­teur : Putain de Par­kin­son est le voyage ini­tia­tique de la petite fille réser­vée qu’était Dali­la Rapo­so\, tou­jours accro­chée à la main de sa mère comme à la der­nière bouée sur le Tita­nic. Elle a été très tôt confron­tée aux affres de la vie\, à la pré­ca­ri­té\, à la mala­die\, aux res­pon­sa­bi­li­tés. Elle s’est muée au fil du temps et des épreuves en une femme rési­liente\, com­ba­tive\, libre\, sen­sible\, tou­jours tour­née vers les autres\, et en fait le témoi­gnage dans ce roman. Ce der­nier\, en plus d’être un hom­mage à sa maman\, est un périple inté­rieur poi­gnant\, sin­cère et ins­pi­rant lorsque l’on tra­verse bien des tourments.\nhttps://www.lysbleueditions.com/produit/putain-de-parkinson/\nhttps://actu.fr/ile-de-france/mantes-la-jolie_78361/mantes-la-jolie-je-voulais-mourir-et-je-voulais-qu-elle-meure-mere-et-fille-reunies-dans-putain-de-parkinson_54751356.html\nFace­book de l“auteure
URL:https://la-peniche-de-triel.org/evenement/conference-dedicace-autour-du-livre-de-dalila-raposo-putain-de-parkinson/
LOCATION:La Péniche de Triel\, 69 quai Auguste Roy\, Triel sur Seine\, 78510\, France
ATTACH;FMTTYPE=image/jpeg:https://la-peniche-de-triel.org/wp-content/uploads/2022/11/295647098_5381170781976675_1697784665995136357_n.jpg
END:VEVENT
BEGIN:VEVENT
DTSTART;TZID=Europe/Paris:20221117T200000
DTEND;TZID=Europe/Paris:20221117T230000
DTSTAMP:20260421T123143
CREATED:20221108T163311Z
LAST-MODIFIED:20221108T163311Z
UID:2516-1668715200-1668726000@la-peniche-de-triel.org
SUMMARY:LA PRESSION FISCALE est-elle une fatalité intercommunale ?
DESCRIPTION:LES INTERVENANTS :\nRiad Oth­man\, Oli­via Biard et Alexandre Dela­by pour repré­sen­ter le Col­lec­tif Citoyen GPSEO ; Phi­lippe Lumau\, pré­sident de l’Union natio­nale des pro­prié­taires immo­bi­liers (Yve­lines)\, qui dresse l’évolution de la taxa­tion fon­cière depuis 20 ans avec un zoom sur les Yvelines ;\nDenis Faist\, ancien conseiller com­mu­nau­taire de GPS&O\, conseiller muni­ci­pal à Andrésy ;\nGhis­laine Senée\, ancienne maire d’Evecquemont\, ancienne conseillère com­mu­nau­taire de GPS&O\, conseillère régio­nale d’Île-de-France ;\nMichel Pons\, ancien maire de Vil­lennes-sur-Seine et ancien conseiller com­mu­nau­taire de GPS&O.\nLieu la Péniche de Triel : 69 Quai Auguste-Roy (près d’Auchan Market)\, \nà Triel-sur-Seine — Tél : 06 79 69 51 50
URL:https://la-peniche-de-triel.org/evenement/la-pression-fiscale-est-elle-une-fatalite-intercommunale/
LOCATION:La Péniche de Triel\, 69 quai Auguste Roy\, Triel sur Seine\, 78510\, France
ATTACH;FMTTYPE=image/jpeg:https://la-peniche-de-triel.org/wp-content/uploads/2022/11/impots.jpg
END:VEVENT
BEGIN:VEVENT
DTSTART;TZID=Europe/Paris:20221119T100000
DTEND;TZID=Europe/Paris:20221120T180000
DTSTAMP:20260421T123143
CREATED:20221102T084247Z
LAST-MODIFIED:20221102T084547Z
UID:2490-1668852000-1668967200@la-peniche-de-triel.org
SUMMARY:CRASH TEST Festival Artistique Atypique
DESCRIPTION:Crash test est un concept ini­tié en février der­nier : il a pour voca­tion la pro­mo­tion des nou­velles étoiles du ciel artis­tique contemporain. \nPour cette seconde édi­tion\, nous invi­tons les artistes de tous les hori­zons à par­ta­ger le temps d’un week-end — du 19 au 20 novembre — leurs pra­tiques\, ins­pi­ra­tions et créa­ti­vi­tés respectives. \nC’est donc direc­te­ment sur la Seine — sur la Péniche de Triel — que les dis­ci­plines se ren­con­tre­ront et consti­tue­ront un objet artis­tique unique\, sym­bo­li­sant l’i­déal d’une mosaïque cultu­relle au sein de laquelle les indi­vi­dua­li­tés s’en­ri­chissent grâce à l’échange.
URL:https://la-peniche-de-triel.org/evenement/crash-test-festival-artistique-atypique/
LOCATION:La Péniche de Triel\, 69 quai Auguste Roy\, Triel sur Seine\, 78510\, France
ATTACH;FMTTYPE=image/png:https://la-peniche-de-triel.org/wp-content/uploads/2022/11/CRASH-TEST-2.png
END:VEVENT
BEGIN:VEVENT
DTSTART;VALUE=DATE:20221125
DTEND;VALUE=DATE:20221203
DTSTAMP:20260421T123143
CREATED:20221105T081535Z
LAST-MODIFIED:20221122T183656Z
UID:2496-1669334400-1670025599@la-peniche-de-triel.org
SUMMARY:Festiv’image - Exposition Photos La Faune et la flore du Parc du Peuple De l’Herbe
DESCRIPTION:Festiv’image Du 25 Novembre au 8 Décembre 2022 Du mar­di au same­di de 15h00 à 18h30 Expo­si­tion Pho­tos La Faune et la flore du Parc du Peuple De l’Herbe « Entrée libre » Invi­ta­tion au Ver­nis­sage : Ven­dre­di 2 décembre à 19h30
URL:https://la-peniche-de-triel.org/evenement/festivimage-exposition-photos-la-faune-et-la-flore-du-parc-du-peuple-de-lherbe/
LOCATION:La Péniche de Triel\, 69 quai Auguste Roy\, Triel sur Seine\, 78510\, France
ATTACH;FMTTYPE=application/pdf:https://la-peniche-de-triel.org/wp-content/uploads/2022/11/Exposition-peniche.pdf
END:VEVENT
END:VCALENDAR