BEGIN:VCALENDAR
VERSION:2.0
PRODID:-//La Péniche de Triel - ECPv6.15.20//NONSGML v1.0//EN
CALSCALE:GREGORIAN
METHOD:PUBLISH
X-ORIGINAL-URL:https://la-peniche-de-triel.org
X-WR-CALDESC:Évènements pour La Péniche de Triel
REFRESH-INTERVAL;VALUE=DURATION:PT1H
X-Robots-Tag:noindex
X-PUBLISHED-TTL:PT1H
BEGIN:VTIMEZONE
TZID:Europe/Paris
BEGIN:DAYLIGHT
TZOFFSETFROM:+0100
TZOFFSETTO:+0200
TZNAME:CEST
DTSTART:20220327T010000
END:DAYLIGHT
BEGIN:STANDARD
TZOFFSETFROM:+0200
TZOFFSETTO:+0100
TZNAME:CET
DTSTART:20221030T010000
END:STANDARD
BEGIN:DAYLIGHT
TZOFFSETFROM:+0100
TZOFFSETTO:+0200
TZNAME:CEST
DTSTART:20230326T010000
END:DAYLIGHT
BEGIN:STANDARD
TZOFFSETFROM:+0200
TZOFFSETTO:+0100
TZNAME:CET
DTSTART:20231029T010000
END:STANDARD
BEGIN:DAYLIGHT
TZOFFSETFROM:+0100
TZOFFSETTO:+0200
TZNAME:CEST
DTSTART:20240331T010000
END:DAYLIGHT
BEGIN:STANDARD
TZOFFSETFROM:+0200
TZOFFSETTO:+0100
TZNAME:CET
DTSTART:20241027T010000
END:STANDARD
END:VTIMEZONE
BEGIN:VEVENT
DTSTART;TZID=Europe/Paris:20231013T200000
DTEND;TZID=Europe/Paris:20231013T220000
DTSTAMP:20260421T135620
CREATED:20230929T063152Z
LAST-MODIFIED:20231002T153908Z
UID:3450-1697227200-1697234400@la-peniche-de-triel.org
SUMMARY:Une féministe révolutionnaire à l'atelier vendredi 13 octobre à 20h
DESCRIPTION:Le 3 mai 1972\, Fabienne Lau­ret est embau­chée à l’atelier cou­ture de Renault-Flins. Issue de la géné­ra­tion de Mai 68\, membre du groupe Révo­lu­tion !\, elle est une éta­blie\, comme on appelle ces jeunes militant·es qui entraient en usine pour chan­ger le monde. Elle y res­te­ra plus de trente-six ans. Relayage et com­men­taires par Isan­zu Karia. \nVéri­table jour­nal d’usine des années 1970–1990 et loin des cli­chés habi­tuels\, elle nous raconte la condi­tion ouvrière moderne\, la souf­france au tra­vail\, l’exploitation quo­ti­dienne et le racisme omni­pré­sent envers les nom­breux immi­grés qui occu­paient les postes les plus pénibles. \nFémi­niste elle com­bat et dénonce les dis­cri­mi­na­tions sexistes au sein de l’usine (patrons\, col­lègues mas­cu­lins\, syn­di­cats) et aus­si auprès de ses amies/collègues les ame­nant à reje­ter les vio­lences faites aux femmes par la socié­té et au sein de la famille. \nLa bataille qu’elle mène avec déter­mi­na­tion est longue\, rude et exige une infi­nie patience. Mili­tante CFDT\, puis délé­guée syn­di­cale\, elle anime ses pre­mières grèves. Indis­so­ciables de son par­cours pro­fes­sion­nel\, ses acti­vi­tés syn­di­cales nous plongent au cœur des fortes luttes sociales qui ont secoué l’usine de Flins. \nPar­cours de vie\, par­cours de lutte\, le livre et la bande des­si­née sont des témoi­gnages vivants et forts d’une fémi­niste ouvrière qui n’a jamais renon­cé à trans­for­mer le monde. Témoi­gnage tout à la fois personnel\,intime\, socio­lo­gique et his­to­rique à l’heure où l’avenir de Renault-Flins sonne la fin d’une époque. \nHis­toire d’abord racon­tée dans L’envers de Flins : une fémi­niste révo­lu­tion­naire à l’atelier paru en 2018 aux édi­tions Syl­lepse\, puis adap­tée en 2022 en bande des­si­née\, avec le concours de Phi­lippe Guillaume pour le scé­na­rio et d’Elena Vieillard pour le des­sin\, sor­tie aux édi­tions La Boîte aux Bulles. \nLe 13 octobre pro­chain\, à 20h30\, la Péniche de Triel accueille Fabienne Lau­ret et Phi­lippe Guillaume pour une ren­contre-débat au cours de laquelle ils pour­ront répondre aux ques­tions des par­ti­ci­pants et témoi­gner de leurs expériences. \nPour vous ins­crire gra­tui­te­ment à l’événement\, suivre le lien sui­vant :https://urlr.me/PLzjF
URL:https://la-peniche-de-triel.org/evenement/une-feministe-revolutionnaire-a-latelier-vendredi-13-octobre-a-20h/
LOCATION:La Péniche de Triel\, 69 quai Auguste Roy\, Triel sur Seine\, 78510\, France
ATTACH;FMTTYPE=image/jpeg:https://la-peniche-de-triel.org/wp-content/uploads/2023/09/Une-feministe-revolutionnaire-a-latelier-vendredi-13-octobre-a-20h.jpg
END:VEVENT
END:VCALENDAR