BEGIN:VCALENDAR
VERSION:2.0
PRODID:-//La Péniche de Triel - ECPv6.15.20//NONSGML v1.0//EN
CALSCALE:GREGORIAN
METHOD:PUBLISH
X-WR-CALNAME:La Péniche de Triel
X-ORIGINAL-URL:https://la-peniche-de-triel.org
X-WR-CALDESC:Évènements pour La Péniche de Triel
REFRESH-INTERVAL;VALUE=DURATION:PT1H
X-Robots-Tag:noindex
X-PUBLISHED-TTL:PT1H
BEGIN:VTIMEZONE
TZID:Europe/Paris
BEGIN:DAYLIGHT
TZOFFSETFROM:+0100
TZOFFSETTO:+0200
TZNAME:CEST
DTSTART:20210328T010000
END:DAYLIGHT
BEGIN:STANDARD
TZOFFSETFROM:+0200
TZOFFSETTO:+0100
TZNAME:CET
DTSTART:20211031T010000
END:STANDARD
BEGIN:DAYLIGHT
TZOFFSETFROM:+0100
TZOFFSETTO:+0200
TZNAME:CEST
DTSTART:20220327T010000
END:DAYLIGHT
BEGIN:STANDARD
TZOFFSETFROM:+0200
TZOFFSETTO:+0100
TZNAME:CET
DTSTART:20221030T010000
END:STANDARD
BEGIN:DAYLIGHT
TZOFFSETFROM:+0100
TZOFFSETTO:+0200
TZNAME:CEST
DTSTART:20230326T010000
END:DAYLIGHT
BEGIN:STANDARD
TZOFFSETFROM:+0200
TZOFFSETTO:+0100
TZNAME:CET
DTSTART:20231029T010000
END:STANDARD
END:VTIMEZONE
BEGIN:VEVENT
DTSTART;TZID=Europe/Paris:20221022T200000
DTEND;TZID=Europe/Paris:20221022T233000
DTSTAMP:20260421T153331
CREATED:20220928T134349Z
LAST-MODIFIED:20221004T064421Z
UID:2337-1666468800-1666481400@la-peniche-de-triel.org
SUMMARY:Samedi 22 octobre ! Soirée "Jazzy"
DESCRIPTION:Avec Capot d’Astres et Jazz Papas Entrée 8 euros — Réser­va­tion sur Hel­loAs­so : https://www.helloasso.com/associations/arche-esperance/evenements/soiree-jazzyLa soi­rée Jaz­zy pro­pulse deux groupes\, Capot d’Astres et Jazz Papas\, à la scène de la Péniche de Triel. C’est un spec­tacle pour et par des fans de ce genre de musique qui a mar­qué toute une géné­ra­tion. Un moment inou­bliable de par la qua­li­té et le panache des musi­ciens et par la sono­ri­té de la Péniche de Triel-sur-Seine.Places très limi­tées ! Concert de sou­tien à l’as­so­cia­tion Arche-Espé­ranceLa Péniche – 69 quai Auguste Roy à Triel.Entrée 8 € (1 bois­son incluse)Snack sur place.
URL:https://la-peniche-de-triel.org/evenement/samedi-22-octobre-soiree-jazzy/
LOCATION:La Péniche de Triel\, 69 quai Auguste Roy\, Triel sur Seine\, 78510\, France
ATTACH;FMTTYPE=image/png:https://la-peniche-de-triel.org/wp-content/uploads/2022/09/Samedi-22-octobre-Soiree-jazzy-1.png
END:VEVENT
END:VCALENDAR