BEGIN:VCALENDAR
VERSION:2.0
PRODID:-//La Péniche de Triel - ECPv6.15.20//NONSGML v1.0//EN
CALSCALE:GREGORIAN
METHOD:PUBLISH
X-ORIGINAL-URL:https://la-peniche-de-triel.org
X-WR-CALDESC:Évènements pour La Péniche de Triel
REFRESH-INTERVAL;VALUE=DURATION:PT1H
X-Robots-Tag:noindex
X-PUBLISHED-TTL:PT1H
BEGIN:VTIMEZONE
TZID:Europe/Paris
BEGIN:DAYLIGHT
TZOFFSETFROM:+0100
TZOFFSETTO:+0200
TZNAME:CEST
DTSTART:20210328T010000
END:DAYLIGHT
BEGIN:STANDARD
TZOFFSETFROM:+0200
TZOFFSETTO:+0100
TZNAME:CET
DTSTART:20211031T010000
END:STANDARD
BEGIN:DAYLIGHT
TZOFFSETFROM:+0100
TZOFFSETTO:+0200
TZNAME:CEST
DTSTART:20220327T010000
END:DAYLIGHT
BEGIN:STANDARD
TZOFFSETFROM:+0200
TZOFFSETTO:+0100
TZNAME:CET
DTSTART:20221030T010000
END:STANDARD
BEGIN:DAYLIGHT
TZOFFSETFROM:+0100
TZOFFSETTO:+0200
TZNAME:CEST
DTSTART:20230326T010000
END:DAYLIGHT
BEGIN:STANDARD
TZOFFSETFROM:+0200
TZOFFSETTO:+0100
TZNAME:CET
DTSTART:20231029T010000
END:STANDARD
END:VTIMEZONE
BEGIN:VEVENT
DTSTART;TZID=Europe/Paris:20220723T190000
DTEND;TZID=Europe/Paris:20220723T223000
DTSTAMP:20260421T203812
CREATED:20220704T065949Z
LAST-MODIFIED:20220726T094515Z
UID:1624-1658602800-1658615400@la-peniche-de-triel.org
SUMMARY:Le samedi 23 juillet à 18h00 & 20h00 : projections gratuites de CRIN BLANC puis de SUR LES QUAIS de Elia KAZAN avec Marlon BRANDO + bar associatif !
DESCRIPTION:L’as­so­cia­tion Contre­champs s’as­so­cie avec La Péniche Arche pour un double ren­dez-vous autour du ciné­ma. Un film pour un public jeune à 18 heures et LE ren­dez-vous de la soi­rée :- 18h : Pro­jec­tion de CRIN BLANC- 20h : Pro­jec­tion de SUR LES QUAIS de Elia KAZAN avec Mar­lon BRANDO — 1954 — durée : 1h48Ces deux pro­jec­tions en 16 mm per­mettent de décou­vrir un des films mythiques du ciné­ma (16 mm) et la pro­jec­tion avec un pro­jec­teur 16 mm.Entrée gra­tuite pour ceux qui s’ins­crivent à l’événement \n			\n			\n				\n				\n				\n				\n			\n				\n				\n				\n				\n				\n				\n				Réser­vez SVP !
URL:https://la-peniche-de-triel.org/evenement/projection-de-sur-les-quais-de-elia-kazan-avec-marlon-brando/
LOCATION:La Péniche de Triel\, 69 quai Auguste Roy\, Triel sur Seine\, 78510\, France
ATTACH;FMTTYPE=image/jpeg:https://la-peniche-de-triel.org/wp-content/uploads/2022/07/SUR-LES-QUAIS.jpg
END:VEVENT
END:VCALENDAR