BEGIN:VCALENDAR
VERSION:2.0
PRODID:-//La Péniche de Triel - ECPv6.15.20//NONSGML v1.0//EN
CALSCALE:GREGORIAN
METHOD:PUBLISH
X-WR-CALNAME:La Péniche de Triel
X-ORIGINAL-URL:https://la-peniche-de-triel.org
X-WR-CALDESC:Évènements pour La Péniche de Triel
REFRESH-INTERVAL;VALUE=DURATION:PT1H
X-Robots-Tag:noindex
X-PUBLISHED-TTL:PT1H
BEGIN:VTIMEZONE
TZID:Europe/Paris
BEGIN:DAYLIGHT
TZOFFSETFROM:+0100
TZOFFSETTO:+0200
TZNAME:CEST
DTSTART:20210328T010000
END:DAYLIGHT
BEGIN:STANDARD
TZOFFSETFROM:+0200
TZOFFSETTO:+0100
TZNAME:CET
DTSTART:20211031T010000
END:STANDARD
BEGIN:DAYLIGHT
TZOFFSETFROM:+0100
TZOFFSETTO:+0200
TZNAME:CEST
DTSTART:20220327T010000
END:DAYLIGHT
BEGIN:STANDARD
TZOFFSETFROM:+0200
TZOFFSETTO:+0100
TZNAME:CET
DTSTART:20221030T010000
END:STANDARD
BEGIN:DAYLIGHT
TZOFFSETFROM:+0100
TZOFFSETTO:+0200
TZNAME:CEST
DTSTART:20230326T010000
END:DAYLIGHT
BEGIN:STANDARD
TZOFFSETFROM:+0200
TZOFFSETTO:+0100
TZNAME:CET
DTSTART:20231029T010000
END:STANDARD
END:VTIMEZONE
BEGIN:VEVENT
DTSTART;TZID=Europe/Paris:20220607T080000
DTEND;TZID=Europe/Paris:20220619T190000
DTSTAMP:20260421T215626
CREATED:20220607T060257Z
LAST-MODIFIED:20220610T205159Z
UID:1306-1654588800-1655665200@la-peniche-de-triel.org
SUMMARY:Exposition collective à La Péniche
DESCRIPTION:Vernissage vendredi 10 juin de 19 h à 22 heures.\nFabrice Roussel — artiste et commissaire d’exposition — vous présente\nFOUADI — SCULPTURE LAMPE\nartiste et directeur de galerie\nCLÉMENT VINOT BASTTISTONI\nartiste graveur émergent\nET SES PROPRES PRODUCTIONS\npeintures au cirage et sculptures en os\nPour tout renseignement\,\ncontactez le 06 75 70 27 15
URL:https://la-peniche-de-triel.org/evenement/exposition-collective-a-la-peniche/
LOCATION:La Péniche de Triel\, 69 quai Auguste Roy\, Triel sur Seine\, 78510\, France
ATTACH;FMTTYPE=image/jpeg:https://la-peniche-de-triel.org/wp-content/uploads/2022/06/20220606_184109-scaled.jpg
END:VEVENT
END:VCALENDAR