BEGIN:VCALENDAR
VERSION:2.0
PRODID:-//La Péniche de Triel - ECPv6.15.20//NONSGML v1.0//EN
CALSCALE:GREGORIAN
METHOD:PUBLISH
X-ORIGINAL-URL:https://la-peniche-de-triel.org
X-WR-CALDESC:Évènements pour La Péniche de Triel
REFRESH-INTERVAL;VALUE=DURATION:PT1H
X-Robots-Tag:noindex
X-PUBLISHED-TTL:PT1H
BEGIN:VTIMEZONE
TZID:Europe/Paris
BEGIN:DAYLIGHT
TZOFFSETFROM:+0100
TZOFFSETTO:+0200
TZNAME:CEST
DTSTART:20210328T010000
END:DAYLIGHT
BEGIN:STANDARD
TZOFFSETFROM:+0200
TZOFFSETTO:+0100
TZNAME:CET
DTSTART:20211031T010000
END:STANDARD
BEGIN:DAYLIGHT
TZOFFSETFROM:+0100
TZOFFSETTO:+0200
TZNAME:CEST
DTSTART:20220327T010000
END:DAYLIGHT
BEGIN:STANDARD
TZOFFSETFROM:+0200
TZOFFSETTO:+0100
TZNAME:CET
DTSTART:20221030T010000
END:STANDARD
BEGIN:DAYLIGHT
TZOFFSETFROM:+0100
TZOFFSETTO:+0200
TZNAME:CEST
DTSTART:20230326T010000
END:DAYLIGHT
BEGIN:STANDARD
TZOFFSETFROM:+0200
TZOFFSETTO:+0100
TZNAME:CET
DTSTART:20231029T010000
END:STANDARD
END:VTIMEZONE
BEGIN:VEVENT
DTSTART;TZID=Europe/Paris:20220520T200000
DTEND;TZID=Europe/Paris:20220520T230000
DTSTAMP:20260422T013211
CREATED:20220219T093704Z
LAST-MODIFIED:20220523T082112Z
UID:1148-1653076800-1653087600@la-peniche-de-triel.org
SUMMARY:Veronika Bulycheva et Jann Halexander le vendredi 20 mai à La Péniche
DESCRIPTION:Le 20 mai à 20 heures : #Spectacle ‘Urgence de Vous\, du Gabon à la Russie’ avec Veronika Bulycheva et Jann Halexander\nDeux artistes venus d’ailleurs : Jann Halexan­der natif du Gabon\, Vero­ni­ka Buly­che­va\, native de Rus­sie. Ils se retrouvent sur scène. Les deux sont musi­ciens auteurs com­po­si­teurs et inter­prètes\, cha­cun a son par­cours ori­gi­nal : ils pré­sentent et mélangent leurs uni­vers per­son­nels à tra­vers leurs chan­sons et des dia­logues poi­gnants\, où la tolé­rance\, l’hu­ma­nisme\, la paix\, la fra­ter­ni­té ne sont pas des vains mots. L’hu­mour et la ten­dresse ne sont jamais loin. On se retrouve en face de polé­miques actuelles autours des cli­chés et des pré­ju­gés liés à leurs pays d’origine : être bicul­tu­rel est une fra­gi­li­té et force à la fois. ‘Urgence de Vous\, du Gabon à la Rus­sie’ a été pré­sen­té depuis 2019 à Paris\, Nantes\, Cla­mart\, Bruxelles… \n			\n				Réser­ver\n			\n				\n				\n				\n				\n				\n				\n			\n				\n				\n				\n				\n				‘Urgence de Vous\, du Gabon à la Rus­sie’ avec Vero­ni­ka Buly­che­va et Jann Halexan­derhttps://urgencedevous.wixsite.com/dugabonalarussiehttps://kibele.fr/ \nPossibilité de restauration sur place.\n“jeu­di der­nier la pre­mière\, au “Nez Rouge” à Paris\, du nou­veau spec­tacle de Jann Halexan­der avec Vero­ni­ka Buly­che­va “Urgence de vous (du Gabon à la Rus­sie)” avait la saveur des mets incon­nus\, goû­teux et trou­blants. Ça ne res­semble à rien de connu (et c’est aus­si ça qui me plaît)\, ça s’é­loigne com­plè­te­ment des cli­chés de notre époque (qui en est far­cie). Comme son nom l’in­dique\, ce concert est un voyage en huma­ni­té qui nous emmène ailleurs\, gui­dés par ce duo déca­lé qui pos­sède le talent rare de la musi­ca­li­té. A quand d’autres repré­sen­ta­tions ? Il y a…urgence.’ ” (Fré­dé­ric Pagès\, chanteur) \nExtraits :https://www.youtube.com/watch?v=8a_9q6w9xfU&t=40s Repor­tage le 16 décembre 2021\, Ate­lier du Verbe\, Paris \nhttps://www.youtube.com/watch?v=tP5LT–qHFE&t=216s Le public parle du spectacle \nhttps://www.youtube.com/watch?v=QWbDyaljvlo ‘Res­ter par Habi­tude’ 23 novembre 2021\, Clamart \nhttps://www.youtube.com/watch?v=wqDid4erF1s Théâtre Michel\, 5 octobre 2020\, Paris
URL:https://la-peniche-de-triel.org/evenement/veronika-bulycheva-et-jann-halexander/
LOCATION:La Péniche de Triel\, 69 quai Auguste Roy\, Triel sur Seine\, 78510\, France
ATTACH;FMTTYPE=image/webp:https://la-peniche-de-triel.org/wp-content/uploads/2022/04/Le-20-mai-a-20-heures-1-e1650391190762.webp
END:VEVENT
END:VCALENDAR