BEGIN:VCALENDAR
VERSION:2.0
PRODID:-//La Péniche de Triel - ECPv6.15.20//NONSGML v1.0//EN
CALSCALE:GREGORIAN
METHOD:PUBLISH
X-WR-CALNAME:La Péniche de Triel
X-ORIGINAL-URL:https://la-peniche-de-triel.org
X-WR-CALDESC:Évènements pour La Péniche de Triel
REFRESH-INTERVAL;VALUE=DURATION:PT1H
X-Robots-Tag:noindex
X-PUBLISHED-TTL:PT1H
BEGIN:VTIMEZONE
TZID:Europe/Paris
BEGIN:DAYLIGHT
TZOFFSETFROM:+0100
TZOFFSETTO:+0200
TZNAME:CEST
DTSTART:20210328T010000
END:DAYLIGHT
BEGIN:STANDARD
TZOFFSETFROM:+0200
TZOFFSETTO:+0100
TZNAME:CET
DTSTART:20211031T010000
END:STANDARD
BEGIN:DAYLIGHT
TZOFFSETFROM:+0100
TZOFFSETTO:+0200
TZNAME:CEST
DTSTART:20220327T010000
END:DAYLIGHT
BEGIN:STANDARD
TZOFFSETFROM:+0200
TZOFFSETTO:+0100
TZNAME:CET
DTSTART:20221030T010000
END:STANDARD
BEGIN:DAYLIGHT
TZOFFSETFROM:+0100
TZOFFSETTO:+0200
TZNAME:CEST
DTSTART:20230326T010000
END:DAYLIGHT
BEGIN:STANDARD
TZOFFSETFROM:+0200
TZOFFSETTO:+0100
TZNAME:CET
DTSTART:20231029T010000
END:STANDARD
END:VTIMEZONE
BEGIN:VEVENT
DTSTART;VALUE=DATE:20220408
DTEND;VALUE=DATE:20220430
DTSTAMP:20260422T012718
CREATED:20220205T143354Z
LAST-MODIFIED:20220523T092515Z
UID:1042-1649376000-1651276799@la-peniche-de-triel.org
SUMMARY:Exposition peintures "Elvis Tampâa"
DESCRIPTION:Du 8 au 24 avril : Pre­mière expo­si­tion per­son­nelle d’un artiste du Bur­ki­na. Sur une palette de 15 œuvres\, le public pour­ra décou­vrir une vision voir un témoi­gnage de l’ac­tua­li­té avec en toile de fond la crise sani­taire. Au delà de l’ar­tiste\, l’homme calme\, dis­cret\, se révéle un bel huma­ni­taire à la conver­sa­tion. Venez nom­breux\, l’ac­cueil sera !!! \n Elvis TAMPÂA
URL:https://la-peniche-de-triel.org/evenement/exposition-peintures-tampaa-elvis/
LOCATION:La Péniche de Triel\, 69 quai Auguste Roy\, Triel sur Seine\, 78510\, France
ATTACH;FMTTYPE=image/jpeg:https://la-peniche-de-triel.org/wp-content/uploads/2022/04/20220410_162832.jpg
END:VEVENT
END:VCALENDAR