BEGIN:VCALENDAR
VERSION:2.0
PRODID:-//La Péniche de Triel - ECPv6.15.20//NONSGML v1.0//EN
CALSCALE:GREGORIAN
METHOD:PUBLISH
X-ORIGINAL-URL:https://la-peniche-de-triel.org
X-WR-CALDESC:Évènements pour La Péniche de Triel
REFRESH-INTERVAL;VALUE=DURATION:PT1H
X-Robots-Tag:noindex
X-PUBLISHED-TTL:PT1H
BEGIN:VTIMEZONE
TZID:Europe/Paris
BEGIN:DAYLIGHT
TZOFFSETFROM:+0100
TZOFFSETTO:+0200
TZNAME:CEST
DTSTART:20210328T010000
END:DAYLIGHT
BEGIN:STANDARD
TZOFFSETFROM:+0200
TZOFFSETTO:+0100
TZNAME:CET
DTSTART:20211031T010000
END:STANDARD
BEGIN:DAYLIGHT
TZOFFSETFROM:+0100
TZOFFSETTO:+0200
TZNAME:CEST
DTSTART:20220327T010000
END:DAYLIGHT
BEGIN:STANDARD
TZOFFSETFROM:+0200
TZOFFSETTO:+0100
TZNAME:CET
DTSTART:20221030T010000
END:STANDARD
BEGIN:DAYLIGHT
TZOFFSETFROM:+0100
TZOFFSETTO:+0200
TZNAME:CEST
DTSTART:20230326T010000
END:DAYLIGHT
BEGIN:STANDARD
TZOFFSETFROM:+0200
TZOFFSETTO:+0100
TZNAME:CET
DTSTART:20231029T010000
END:STANDARD
END:VTIMEZONE
BEGIN:VEVENT
DTSTART;TZID=Europe/Paris:20220402T100000
DTEND;TZID=Europe/Paris:20220403T180000
DTSTAMP:20260422T014416
CREATED:20220127T182527Z
LAST-MODIFIED:20220416T155427Z
UID:806-1648893600-1649008800@la-peniche-de-triel.org
SUMMARY:Salon Livres en Seine - édition 2022
DESCRIPTION:Les 2 et 3 avril de 10h à 18h\, La Péniche de Triel\, en col­la­bo­ra­tion avec la bou­qui­niste Ste­pha­nie De Lima\, orga­nise le salon Livres en Seine. Ce ren­dez-vous lit­té­raire local\, s’ins­crit dans la conti­nui­té des acti­vi­tés cultu­relles de la Péniche. L’é­di­tion de 2022 s’ap­puie notam­ment sur le savoir-faire de Sté­pha­nie De Lima\, qui arpente la Val­lée de la Seine avec l’i­dée de répandre la fureur de lire. Au pro­gramme du salon Livres en Seine\, ren­contre des auteurs locaux\, plus d’une ving­taine et dans des domaines divers et\, éga­le­ment\, la lec­ture de contes pour les petits et les grands\, trois séances par jour sont pré­vues à 11 h\, 15h & 16h.
URL:https://la-peniche-de-triel.org/evenement/salon-livre-en-seine-edition-2022/
LOCATION:La Péniche de Triel\, 69 quai Auguste Roy\, Triel sur Seine\, 78510\, France
ATTACH;FMTTYPE=image/png:https://la-peniche-de-triel.org/wp-content/uploads/2022/01/image-peniche.png
END:VEVENT
END:VCALENDAR